BEGIN:VCALENDAR
VERSION:2.0
PRODID:-//wp-events-plugin.com//7.2.3.1//EN
TZID:Europe/Amsterdam
X-WR-TIMEZONE:Europe/Amsterdam
BEGIN:VEVENT
UID:813@alphameppel.nl
DTSTART;TZID=Europe/Amsterdam;VALUE=DATE:20260427
DTEND;TZID=Europe/Amsterdam;VALUE=DATE:20260504
DTSTAMP:20260310T120901Z
URL:https://www.alphameppel.nl/aanmelden/meivakantie/
SUMMARY:Meivakantie!
DESCRIPTION:[vc_row][vc_column][vc_column_text css="" woodmart_inline="no" 
 text_larger="no"]Tijdens de meivakantie is de hondenschool gesloten en zij
 n er geen lessen.\n\nMeivakantie: 27 april t/m 3 mei 2026\n\n[/vc_column_t
 ext][/vc_column][/vc_row]
ATTACH;FMTTYPE=image/jpeg:https://www.alphameppel.nl/wp-content/uploads/20
 25/01/spring.png
CATEGORIES:Hondensport,Puppy-inloop
LOCATION:Meppeler IJsclub\, Sportpark Koedijkslanden 2\, Meppel\, 7944 PA\,
  Nederland
X-APPLE-STRUCTURED-LOCATION;VALUE=URI;X-ADDRESS=Sportpark Koedijkslanden 2\
 , Meppel\, 7944 PA\, Nederland;X-APPLE-RADIUS=100;X-TITLE=Meppeler IJsclub
 :geo:0,0
END:VEVENT
BEGIN:VTIMEZONE
TZID:Europe/Amsterdam
X-LIC-LOCATION:Europe/Amsterdam
BEGIN:DAYLIGHT
DTSTART:20260329T030000
TZOFFSETFROM:+0100
TZOFFSETTO:+0200
TZNAME:CEST
END:DAYLIGHT
END:VTIMEZONE
END:VCALENDAR