BEGIN:VCALENDAR
VERSION:2.0
PRODID:-//wp-events-plugin.com//7.2.3.1//EN
TZID:Europe/Amsterdam
X-WR-TIMEZONE:Europe/Amsterdam
BEGIN:VEVENT
UID:776@alphameppel.nl
DTSTART;TZID=Europe/Amsterdam:20260505T193000
DTEND;TZID=Europe/Amsterdam:20260505T203000
DTSTAMP:20260310T113424Z
URL:https://www.alphameppel.nl/aanmelden/5x-puppy-inloop-korting-6-2026-05
 -05/
SUMMARY:5x Puppy-inloop (korting!)
DESCRIPTION:Reserveer 5 puppylessen vooruit en betaal slechts €12\,50 per
  les!\n(de 4 overige data kun je met de puppy-instructeur afspreken)\nPupp
 y-inloop (Zomerperiode)\nGESCHIKT VOOR PUPS VAN 7 T/M 14 WEKEN OUD\nBij de
  puppy-inloop kunnen pups van 7-14 weken terecht. Het is verstandig om zo 
 snel mogelijk met uw nieuwe huisgenoot naar de hondenschool te gaan en opt
 imaal gebruik te maken van de gevoelige leerperiodes van de pup (socialisa
 tiefase)\, zodat uw jonge hond opgroeit tot een fijne huisgenoot. Ook hebb
 en mensen vaak veel vragen als ze (weer) een jonge pup in huis hebben. Daa
 rom kunt u met uw jonge pup direct bij ons terecht (geen wachttijden\, ins
 troom altijd mogelijk).\n\nTijdens de puppy-inloop staat het opvoeden en s
 ocialiseren van de jonge pup centraal. Er worden  verschillende socialisa
 tieoefeningen gedaan:\n\nKennis maken met vreemde voorwerpen\; Vertrouwd r
 aken met alledaagse geluiden\; De dierenarts-oefening\; Begroeten en aanra
 ken door vreemde mensen\; Een stadsles op en rondom het station\; en nog 
 veel meer!\n\nDaarnaast zullen we alvast een klein begin maken met een aan
 tal gehoorzaamheidsoefeningen\, zoals:\n\nNetjes meelopen aan de riem\; Zi
 tten op commando\; Hier komen\; Apporteren.\n\nDit alles wordt zonder dru
 k en spelenderwijs aangeleerd bij uw pup.  Tijdens het korte theoriegedee
 lte\, waar iedere les mee begint\, kunt u al uw vragen stellen m.b.t. het 
 in huis hebben van een jong hondje (zindelijkheidstraining\, bijtgedrag\, 
 alleen thuis leren zijn\, slopen enz.) Vanuit de puppy-inloop kunnen de jo
 nge honden direct doorstromen naar onze basiscursus gehoorzaamheid.\n\nDe 
 cursustijd van de puppy-inloop is: De puppy-inloop is op dinsdagavond van 
 19:30 - 20:30 uur.\n\nZoals al eerder gezegd: U hoeft nooit te wachten t
 ot er een cursus van start gaat\, u kunt altijd zo inlopen! (wel graag van
  tevoren aanmelden)\n\n&nbsp\;
ATTACH;FMTTYPE=image/jpeg:https://www.alphameppel.nl/wp-content/uploads/20
 23/04/puppy-inloop-foto-2.0.jpg
CATEGORIES:Puppy-inloop
LOCATION:Meppeler IJsclub\, Sportpark Koedijkslanden 2\, Meppel\, 7944 PA\,
  Nederland
X-APPLE-STRUCTURED-LOCATION;VALUE=URI;X-ADDRESS=Sportpark Koedijkslanden 2\
 , Meppel\, 7944 PA\, Nederland;X-APPLE-RADIUS=100;X-TITLE=Meppeler IJsclub
 :geo:0,0
END:VEVENT
BEGIN:VTIMEZONE
TZID:Europe/Amsterdam
X-LIC-LOCATION:Europe/Amsterdam
BEGIN:DAYLIGHT
DTSTART:20260329T030000
TZOFFSETFROM:+0100
TZOFFSETTO:+0200
TZNAME:CEST
END:DAYLIGHT
END:VTIMEZONE
END:VCALENDAR